BEGIN:VCALENDAR
VERSION:2.0
PRODID:-//Graffham &amp; Duncton School Federation - ECPv6.15.11//NONSGML v1.0//EN
CALSCALE:GREGORIAN
METHOD:PUBLISH
X-WR-CALNAME:Graffham &amp; Duncton School Federation
X-ORIGINAL-URL:https://graffhamandduncton.w-sussex.sch.uk
X-WR-CALDESC:Events for Graffham &amp; Duncton School Federation
REFRESH-INTERVAL;VALUE=DURATION:PT1H
X-Robots-Tag:noindex
X-PUBLISHED-TTL:PT1H
BEGIN:VTIMEZONE
TZID:UTC
BEGIN:STANDARD
TZOFFSETFROM:+0000
TZOFFSETTO:+0000
TZNAME:UTC
DTSTART:20240101T000000
END:STANDARD
END:VTIMEZONE
BEGIN:VEVENT
DTSTART;VALUE=DATE:20250605
DTEND;VALUE=DATE:20250606
DTSTAMP:20260424T000806
CREATED:20250519T082310Z
LAST-MODIFIED:20250519T082310Z
UID:5310-1749081600-1749167999@graffhamandduncton.w-sussex.sch.uk
SUMMARY:Bags of Support - Collection Day
DESCRIPTION:
URL:https://graffhamandduncton.w-sussex.sch.uk/event/bags-of-support-collection-day/
CATEGORIES:Charity Event,Community,FGD Fundraiser,School Event
ATTACH;FMTTYPE=image/jpeg:https://graffhamandduncton.w-sussex.sch.uk/wp-content/uploads/2025/05/Bags-of-Support.jpg
END:VEVENT
END:VCALENDAR