BEGIN:VCALENDAR
VERSION:2.0
PRODID:-//Graffham &amp; Duncton School Federation - ECPv6.15.11//NONSGML v1.0//EN
CALSCALE:GREGORIAN
METHOD:PUBLISH
X-WR-CALNAME:Graffham &amp; Duncton School Federation
X-ORIGINAL-URL:https://graffhamandduncton.w-sussex.sch.uk
X-WR-CALDESC:Events for Graffham &amp; Duncton School Federation
REFRESH-INTERVAL;VALUE=DURATION:PT1H
X-Robots-Tag:noindex
X-PUBLISHED-TTL:PT1H
BEGIN:VTIMEZONE
TZID:UTC
BEGIN:STANDARD
TZOFFSETFROM:+0000
TZOFFSETTO:+0000
TZNAME:UTC
DTSTART:20240101T000000
END:STANDARD
END:VTIMEZONE
BEGIN:VEVENT
DTSTART;TZID=UTC:20250926T090000
DTEND;TZID=UTC:20250926T230000
DTSTAMP:20260423T160027
CREATED:20250909T090039Z
LAST-MODIFIED:20250909T092912Z
UID:5608-1758877200-1758927600@graffhamandduncton.w-sussex.sch.uk
SUMMARY:Macmillan Coffee Morning - Graffham School Hall
DESCRIPTION:We are holding a Macmillan Coffee Morning for both schools at Graffham school hall\, 9am on Friday 26th September
URL:https://graffhamandduncton.w-sussex.sch.uk/event/macmillan-coffee-morning/
CATEGORIES:Charity Event,Church,Community
ATTACH;FMTTYPE=image/jpeg:https://graffhamandduncton.w-sussex.sch.uk/wp-content/uploads/2025/09/FacebookLetsdoCoffeeMorning.jpg
END:VEVENT
END:VCALENDAR